BEGIN:VCALENDAR
VERSION:2.0
PRODID:-//Imagina Mentalización - ECPv6.10.1.1//NONSGML v1.0//EN
CALSCALE:GREGORIAN
METHOD:PUBLISH
X-ORIGINAL-URL:https://imaginamentalizacion.com
X-WR-CALDESC:Eventos para Imagina Mentalización
REFRESH-INTERVAL;VALUE=DURATION:PT1H
X-Robots-Tag:noindex
X-PUBLISHED-TTL:PT1H
BEGIN:VTIMEZONE
TZID:UTC
BEGIN:STANDARD
TZOFFSETFROM:+0000
TZOFFSETTO:+0000
TZNAME:UTC
DTSTART:20240101T000000
END:STANDARD
END:VTIMEZONE
BEGIN:VEVENT
DTSTART;TZID=UTC:20240926T090000
DTEND;TZID=UTC:20240928T163000
DTSTAMP:20260423T084511
CREATED:20240715T080305Z
LAST-MODIFIED:20240731T143740Z
UID:5071-1727341200-1727541000@imaginamentalizacion.com
SUMMARY:MBT-A en el Colegio Oficial de Médicos de Málaga
DESCRIPTION:« Todos los Eventos\n 				\n				\n				\n				\n					Este evento ha pasado. \n				\n				\n				\n				\n					\n	MBT-A en el Colegio Oficial de Médicos de Málaga				\n				\n				\n				\n					\n		\n			septiembre 26\n\n	\n\n	  @  \n\n\n09:00\n\n	\n\n		\n	\n	  -  \n\n	septiembre 28\n\n	\n\n	  @  \n\n\n16:30\n\n\n\n	\n				\n				\n		\n					\n					\n				\n		\n					\n		\n				\n				\n				\n					\n	\n		\n\n	\n	Añadir al calendario	\n		\n	\n\n		\n			\n									\n	Google Calendar\n\n									\n	iCalendar\n\n									\n	Outlook 365\n\n									\n	Outlook Live\n\n							\n		\n\n		\n	\n\n				\n				\n					\n				\n		\n					\n					\n				\n				\n				\n					\n	\n				\n				\n		\n					\n					\n				\n				\n				\n									El tratamiento basado en la mentalización para adolescentes (MBT-A) es un modelo de tratamiento para trabajar con adolescentes que presentan una amplia gama de necesidades de salud mental\, que incluyen: dificultades interpersonales\, desregulación emocional\, impulsividad y autolesiones. El modelo MBT-A combina sesiones semanales individuales para adolescentes junto con sesiones de tratamiento basado en la mentalización para la familia (MBT-F)\, y tiene como objetivo mejorar la capacidad del adolescente para representar sus propios sentimientos y los de los demás con precisión\, en situaciones emocionalmente desafiantes. \nEsta formación es el primer paso que habilita para el reconocimiento posterior como MBT-A Certified Practitioner por el Anna Freud National Centre for Children and Families. Los asistentes a la formación habrán cumplido el primero de los tres pasos para la habilitación MBT-A Certified Practitioner. El reconocimiento final como “Terapeuta Acreditado MBT-A” por el Anna Freud National Centre for Children and Families exige\, además de esta formación\, la supervisión de casos con supervisores acreditados MBT-A y la evaluación final de las competencias adquiridas. \n IMAGINA cuenta con dos supervisores MBT-A acreditados \nLa lista completa de supervisores acreditados MBT-A puede consultarse en la web del Anna Freud National Centre for Children and Families. 								\n				\n		\n					\n					\n				\n				\n						\n					\n			\n						\n				\n					\n				\n				\n	\n	Colegio Oficial de Médicos de Málaga\n	\n	Dirección:\n	\n\nC. Curtidores\, 1\n	\n		\n		Carretera de Cádiz\,\n\n	Málaga\n\n	29006\n\n	España\n\n\n\n\n	+ Google Map \n\n\n	\n	Teléfono:\n					\n			951 01 94 00			\n	 \n\n\n	\n	Sitio web:\n	Ver la web del Local \n\n\n\n	\n\n\n\n		\n	\n				\n				\n					\n		\n				\n			\n						\n				\n					\n	\n	Organizador\n	Norka Malberg\n	\n	\n\n	Teléfono:\n					\n			689 466 874			\n	 \n\n\n	\n\n	Sitio web:Ver la web del Organizador \n\n\n	\n	Correo electrónico:\n					\n			imagina.mentalizar@gmail.com			\n	 \n\n\n\n				\n				\n					\n		\n					\n		\n		\n					\n					\n				\n				\n						\n					\n			\n						\n				\n					\n	\n\n		\n		\n		\n\n		\n\n		\n\n\n\n	Entradas\n\n		\n	\n	\n		Los números presentados abajo incluyen entradas a este evento que ya están en tu carrito. Al pulsar "Adquirir Entradas" podrás editar los datos de los asistentes\, así como o cambiar la cantidad de entradas.	\n\n\n		\n		\n		\n	\n		Entradas ya no están disponibles
URL:https://imaginamentalizacion.com/event/mbt-a-en-el-colegio-oficial-de-medicos-de-malaga/
LOCATION:Colegio Oficial de Médicos de Málaga\, C. Curtidores\, 1\, Carretera de Cádiz\, Málaga\, 29006\, España
CATEGORIES:MBT-A
ATTACH;FMTTYPE=image/png:https://imaginamentalizacion.com/wp-content/uploads/2024/06/Screenshot-2024-06-12-at-14.33.52.png
ORGANIZER;CN="Norka Malberg":MAILTO:imagina.mentalizar@gmail.com
END:VEVENT
END:VCALENDAR